Package: KinSwingR Version: 1.25.0 Command: /Library/Frameworks/R.framework/Resources/bin/R CMD INSTALL KinSwingR StartedAt: 2025-02-09 15:07:32 -0500 (Sun, 09 Feb 2025) EndedAt: 2025-02-09 15:07:34 -0500 (Sun, 09 Feb 2025) EllapsedTime: 2.1 seconds RetCode: 0 Status: OK