Package: KinSwingR Version: 1.25.0 Command: /home/biocbuild/R/R/bin/R CMD INSTALL KinSwingR StartedAt: 2025-01-29 19:45:28 -0000 (Wed, 29 Jan 2025) EndedAt: 2025-01-29 19:45:34 -0000 (Wed, 29 Jan 2025) EllapsedTime: 6.0 seconds RetCode: 0 Status: OK