Package: KinSwingR Version: 1.25.0 Command: rm -rf KinSwingR.buildbin-libdir && mkdir KinSwingR.buildbin-libdir && /Users/biocbuild/BBS/utils/build-universal.sh KinSwingR_1.25.0.tar.gz /Library/Frameworks/R.framework/Resources/bin/R KinSwingR.buildbin-libdir StartedAt: 2025-02-13 00:42:54 -0500 (Thu, 13 Feb 2025) EndedAt: 2025-02-13 00:43:03 -0500 (Thu, 13 Feb 2025) EllapsedTime: 9.2 seconds RetCode: 0 Status: OK PackageFile: KinSwingR_1.25.0.tgz PackageFileSize: 695.7 KiB