Package: KinSwingR Version: 1.25.0 Command: /home/biocbuild/bbs-3.21-bioc/R/bin/R CMD build --keep-empty-dirs --no-resave-data KinSwingR StartedAt: 2025-02-09 17:50:33 -0500 (Sun, 09 Feb 2025) EndedAt: 2025-02-09 17:51:00 -0500 (Sun, 09 Feb 2025) EllapsedTime: 27.0 seconds RetCode: 0 Status: OK PackageFile: KinSwingR_1.25.0.tar.gz PackageFileSize: 578.2 KiB