Package: KinSwingR Version: 1.25.0 Command: rm -rf KinSwingR.buildbin-libdir && mkdir KinSwingR.buildbin-libdir && E:\biocbuild\bbs-3.21-bioc\R\bin\R.exe CMD INSTALL --build --library=KinSwingR.buildbin-libdir KinSwingR_1.25.0.tar.gz StartedAt: 2025-02-10 08:01:10 -0500 (Mon, 10 Feb 2025) EndedAt: 2025-02-10 08:01:26 -0500 (Mon, 10 Feb 2025) EllapsedTime: 15.3 seconds RetCode: 0 Status: OK PackageFile: KinSwingR_1.25.0.zip PackageFileSize: 617.9 KiB