Package: KinSwingR Version: 1.25.0 Command: E:\biocbuild\bbs-3.21-bioc\R\bin\R.exe CMD check --no-multiarch --install=check:KinSwingR.install-out.txt --library=E:\biocbuild\bbs-3.21-bioc\R\library --no-vignettes --timings KinSwingR_1.25.0.tar.gz StartedAt: 2025-02-10 02:19:55 -0500 (Mon, 10 Feb 2025) EndedAt: 2025-02-10 02:21:14 -0500 (Mon, 10 Feb 2025) EllapsedTime: 79.4 seconds RetCode: 0 Status: OK CheckDir: KinSwingR.Rcheck Warnings: 0