Package: LACE Version: 2.11.0 Command: /Library/Frameworks/R.framework/Resources/bin/R CMD build --keep-empty-dirs --no-resave-data LACE StartedAt: 2025-02-09 16:45:34 -0500 (Sun, 09 Feb 2025) EndedAt: 2025-02-09 16:45:55 -0500 (Sun, 09 Feb 2025) EllapsedTime: 21.3 seconds RetCode: 0 Status: OK PackageFile: LACE_2.11.0.tar.gz PackageFileSize: 4.084 MiB