Package: LACE Version: 2.11.0 Command: /home/biocbuild/bbs-3.21-bioc/R/bin/R CMD build --keep-empty-dirs --no-resave-data LACE StartedAt: 2025-02-09 17:51:00 -0500 (Sun, 09 Feb 2025) EndedAt: 2025-02-09 17:51:52 -0500 (Sun, 09 Feb 2025) EllapsedTime: 52.1 seconds RetCode: 0 Status: OK PackageFile: LACE_2.11.0.tar.gz PackageFileSize: 4.077 MiB