Package: LACE Version: 2.11.0 Command: E:\biocbuild\bbs-3.21-bioc\R\bin\R.exe CMD check --no-multiarch --install=check:LACE.install-out.txt --library=E:\biocbuild\bbs-3.21-bioc\R\library --no-vignettes --timings LACE_2.11.0.tar.gz StartedAt: 2025-02-10 02:21:15 -0500 (Mon, 10 Feb 2025) EndedAt: 2025-02-10 02:26:29 -0500 (Mon, 10 Feb 2025) EllapsedTime: 313.5 seconds RetCode: 0 Status: OK CheckDir: LACE.Rcheck Warnings: 0