Package: LBE Version: 1.75.0 Command: /Library/Frameworks/R.framework/Resources/bin/R CMD build --keep-empty-dirs --no-resave-data LBE StartedAt: 2025-02-09 16:45:36 -0500 (Sun, 09 Feb 2025) EndedAt: 2025-02-09 16:45:40 -0500 (Sun, 09 Feb 2025) EllapsedTime: 4.1 seconds RetCode: 0 Status: OK PackageFile: LBE_1.75.0.tar.gz PackageFileSize: 784.2 KiB