Package: LBE Version: 1.75.0 Command: /Library/Frameworks/R.framework/Resources/bin/R CMD check --install=check:LBE.install-out.txt --library=/Library/Frameworks/R.framework/Resources/library --no-vignettes --timings LBE_1.75.0.tar.gz StartedAt: 2025-02-09 19:50:32 -0500 (Sun, 09 Feb 2025) EndedAt: 2025-02-09 19:50:43 -0500 (Sun, 09 Feb 2025) EllapsedTime: 11.2 seconds RetCode: 0 Status: OK CheckDir: LBE.Rcheck Warnings: 0