Package: LBE Version: 1.75.0 Command: /Library/Frameworks/R.framework/Resources/bin/R CMD INSTALL LBE StartedAt: 2025-02-09 15:01:10 -0500 (Sun, 09 Feb 2025) EndedAt: 2025-02-09 15:01:12 -0500 (Sun, 09 Feb 2025) EllapsedTime: 2.7 seconds RetCode: 0 Status: OK