Package: LBE Version: 1.75.0 Command: /Library/Frameworks/R.framework/Resources/bin/R CMD build --keep-empty-dirs --no-resave-data LBE StartedAt: 2025-02-12 17:11:27 -0500 (Wed, 12 Feb 2025) EndedAt: 2025-02-12 17:11:37 -0500 (Wed, 12 Feb 2025) EllapsedTime: 10.3 seconds RetCode: 0 Status: OK PackageFile: LBE_1.75.0.tar.gz PackageFileSize: 784 KiB