Package: LBE Version: 1.75.0 Command: /Library/Frameworks/R.framework/Resources/bin/R CMD check --install=check:LBE.install-out.txt --library=/Library/Frameworks/R.framework/Resources/library --no-vignettes --timings LBE_1.75.0.tar.gz StartedAt: 2025-02-12 21:20:10 -0500 (Wed, 12 Feb 2025) EndedAt: 2025-02-12 21:20:38 -0500 (Wed, 12 Feb 2025) EllapsedTime: 27.7 seconds RetCode: 0 Status: OK CheckDir: LBE.Rcheck Warnings: 0