Package: LBE Version: 1.75.0 Command: /home/biocbuild/bbs-3.21-bioc/R/bin/R CMD INSTALL LBE StartedAt: 2025-02-09 15:03:29 -0500 (Sun, 09 Feb 2025) EndedAt: 2025-02-09 15:03:49 -0500 (Sun, 09 Feb 2025) EllapsedTime: 20.1 seconds RetCode: 0 Status: OK