Package: LBE Version: 1.75.0 Command: chmod a+r LBE -R && E:\biocbuild\bbs-3.21-bioc\R\bin\R.exe CMD build --keep-empty-dirs --no-resave-data LBE StartedAt: 2025-02-12 19:37:17 -0500 (Wed, 12 Feb 2025) EndedAt: 2025-02-12 19:37:34 -0500 (Wed, 12 Feb 2025) EllapsedTime: 17.0 seconds RetCode: 0 Status: OK PackageFile: LBE_1.75.0.tar.gz PackageFileSize: 785.9 KiB