Package: LBE Version: 1.75.0 Command: E:\biocbuild\bbs-3.21-bioc\R\bin\R.exe CMD check --no-multiarch --install=check:LBE.install-out.txt --library=E:\biocbuild\bbs-3.21-bioc\R\library --no-vignettes --timings LBE_1.75.0.tar.gz StartedAt: 2025-02-10 02:21:44 -0500 (Mon, 10 Feb 2025) EndedAt: 2025-02-10 02:22:13 -0500 (Mon, 10 Feb 2025) EllapsedTime: 28.7 seconds RetCode: 0 Status: OK CheckDir: LBE.Rcheck Warnings: 0