Package: LEA Version: 3.19.4 Maintainer: Olivier Francois MaintainerEmail: olivier.francois at grenoble-inp.fr git_url: https://git.bioconductor.org/packages/LEA git_branch: devel git_last_commit: eaf388b git_last_commit_date: 2025-01-23 09:42:32 -0500 (Thu, 23 Jan 2025)