Package: LEA Version: 3.19.4 Command: rm -rf LEA.buildbin-libdir && mkdir LEA.buildbin-libdir && /Users/biocbuild/BBS/utils/build-universal.sh LEA_3.19.4.tar.gz /Library/Frameworks/R.framework/Resources/bin/R LEA.buildbin-libdir StartedAt: 2025-02-04 22:20:54 -0500 (Tue, 04 Feb 2025) EndedAt: 2025-02-04 22:21:04 -0500 (Tue, 04 Feb 2025) EllapsedTime: 10.2 seconds RetCode: 0 Status: OK PackageFile: LEA_3.19.4.tgz PackageFileSize: 960.3 KiB