Package: LEA Version: 3.19.4 Command: /Library/Frameworks/R.framework/Resources/bin/R CMD check --install=check:LEA.install-out.txt --library=/Library/Frameworks/R.framework/Resources/library --no-vignettes --timings LEA_3.19.4.tar.gz StartedAt: 2025-02-04 19:52:35 -0500 (Tue, 04 Feb 2025) EndedAt: 2025-02-04 19:53:34 -0500 (Tue, 04 Feb 2025) EllapsedTime: 59.7 seconds RetCode: 0 Status: OK CheckDir: LEA.Rcheck Warnings: 0