Package: LEA Version: 3.19.4 Command: /Library/Frameworks/R.framework/Resources/bin/R CMD INSTALL LEA StartedAt: 2025-02-09 15:01:11 -0500 (Sun, 09 Feb 2025) EndedAt: 2025-02-09 15:01:19 -0500 (Sun, 09 Feb 2025) EllapsedTime: 8.3 seconds RetCode: 0 Status: OK