Package: LEA Version: 3.19.4 Command: /home/biocbuild/R/R/bin/R CMD build --keep-empty-dirs --no-resave-data LEA StartedAt: 2025-01-28 23:53:46 -0000 (Tue, 28 Jan 2025) EndedAt: 2025-01-28 23:55:42 -0000 (Tue, 28 Jan 2025) EllapsedTime: 116.0 seconds RetCode: 0 Status: OK PackageFile: LEA_3.19.4.tar.gz PackageFileSize: 829.2 KiB