Package: LEA Version: 3.19.4 Command: /Library/Frameworks/R.framework/Resources/bin/R CMD build --keep-empty-dirs --no-resave-data LEA StartedAt: 2025-02-09 17:14:52 -0500 (Sun, 09 Feb 2025) EndedAt: 2025-02-09 17:16:45 -0500 (Sun, 09 Feb 2025) EllapsedTime: 113.2 seconds RetCode: 0 Status: OK PackageFile: LEA_3.19.4.tar.gz PackageFileSize: 740.3 KiB