Package: LEA Version: 3.19.4 Command: chmod a+r LEA -R && E:\biocbuild\bbs-3.21-bioc\R\bin\R.exe CMD build --keep-empty-dirs --no-resave-data LEA StartedAt: 2025-02-09 19:32:03 -0500 (Sun, 09 Feb 2025) EndedAt: 2025-02-09 19:35:23 -0500 (Sun, 09 Feb 2025) EllapsedTime: 200.0 seconds RetCode: 0 Status: OK PackageFile: LEA_3.19.4.tar.gz PackageFileSize: 742.7 KiB