Package: LEA Version: 3.19.4 Command: E:\biocbuild\bbs-3.21-bioc\R\bin\R.exe CMD check --no-multiarch --install=check:LEA.install-out.txt --library=E:\biocbuild\bbs-3.21-bioc\R\library --no-vignettes --timings LEA_3.19.4.tar.gz StartedAt: 2025-02-05 02:49:26 -0500 (Wed, 05 Feb 2025) EndedAt: 2025-02-05 02:52:45 -0500 (Wed, 05 Feb 2025) EllapsedTime: 198.9 seconds RetCode: 0 Status: OK CheckDir: LEA.Rcheck Warnings: 0