Package: LOBSTAHS Version: 1.33.0 Command: rm -rf LOBSTAHS.buildbin-libdir && mkdir LOBSTAHS.buildbin-libdir && /Users/biocbuild/BBS/utils/build-universal.sh LOBSTAHS_1.33.0.tar.gz /Library/Frameworks/R.framework/Resources/bin/R LOBSTAHS.buildbin-libdir StartedAt: 2025-02-04 22:21:08 -0500 (Tue, 04 Feb 2025) EndedAt: 2025-02-04 22:21:27 -0500 (Tue, 04 Feb 2025) EllapsedTime: 19.4 seconds RetCode: 0 Status: OK PackageFile: LOBSTAHS_1.33.0.tgz PackageFileSize: 2.002 MiB