Package: LOBSTAHS Version: 1.33.0 Command: /Library/Frameworks/R.framework/Resources/bin/R CMD build --keep-empty-dirs --no-resave-data LOBSTAHS StartedAt: 2025-02-04 16:46:56 -0500 (Tue, 04 Feb 2025) EndedAt: 2025-02-04 16:47:24 -0500 (Tue, 04 Feb 2025) EllapsedTime: 27.4 seconds RetCode: 0 Status: OK PackageFile: LOBSTAHS_1.33.0.tar.gz PackageFileSize: 2.903 MiB