Package: LOBSTAHS Version: 1.33.0 Command: /Library/Frameworks/R.framework/Resources/bin/R CMD check --install=check:LOBSTAHS.install-out.txt --library=/Library/Frameworks/R.framework/Resources/library --no-vignettes --timings LOBSTAHS_1.33.0.tar.gz StartedAt: 2025-02-04 19:54:15 -0500 (Tue, 04 Feb 2025) EndedAt: 2025-02-04 19:56:22 -0500 (Tue, 04 Feb 2025) EllapsedTime: 126.8 seconds RetCode: 0 Status: WARNINGS CheckDir: LOBSTAHS.Rcheck Warnings: 1