Package: LOBSTAHS Version: 1.33.0 Command: rm -rf LOBSTAHS.buildbin-libdir && mkdir LOBSTAHS.buildbin-libdir && /Users/biocbuild/BBS/utils/build-universal.sh LOBSTAHS_1.33.0.tar.gz /Library/Frameworks/R.framework/Resources/bin/R LOBSTAHS.buildbin-libdir StartedAt: 2025-02-05 00:46:31 -0500 (Wed, 05 Feb 2025) EndedAt: 2025-02-05 00:47:36 -0500 (Wed, 05 Feb 2025) EllapsedTime: 65.2 seconds RetCode: 0 Status: OK PackageFile: LOBSTAHS_1.33.0.tgz PackageFileSize: 2.001 MiB