Package: LOBSTAHS Version: 1.33.0 Command: /home/biocbuild/bbs-3.21-bioc/R/bin/R CMD check --install=check:LOBSTAHS.install-out.txt --library=/home/biocbuild/bbs-3.21-bioc/R/site-library --timings LOBSTAHS_1.33.0.tar.gz StartedAt: 2025-02-04 23:38:41 -0500 (Tue, 04 Feb 2025) EndedAt: 2025-02-04 23:44:31 -0500 (Tue, 04 Feb 2025) EllapsedTime: 350.6 seconds RetCode: 0 Status: WARNINGS CheckDir: LOBSTAHS.Rcheck Warnings: 1