Package: LOBSTAHS Version: 1.33.0 Command: rm -rf LOBSTAHS.buildbin-libdir && mkdir LOBSTAHS.buildbin-libdir && E:\biocbuild\bbs-3.21-bioc\R\bin\R.exe CMD INSTALL --build --library=LOBSTAHS.buildbin-libdir LOBSTAHS_1.33.0.tar.gz StartedAt: 2025-02-05 08:13:57 -0500 (Wed, 05 Feb 2025) EndedAt: 2025-02-05 08:15:33 -0500 (Wed, 05 Feb 2025) EllapsedTime: 95.7 seconds RetCode: 0 Status: OK PackageFile: LOBSTAHS_1.33.0.zip PackageFileSize: 2.012 MiB