Package: LOBSTAHS Version: 1.33.0 Command: chmod a+r LOBSTAHS -R && E:\biocbuild\bbs-3.21-bioc\R\bin\R.exe CMD build --keep-empty-dirs --no-resave-data LOBSTAHS StartedAt: 2025-02-04 19:37:16 -0500 (Tue, 04 Feb 2025) EndedAt: 2025-02-04 19:38:49 -0500 (Tue, 04 Feb 2025) EllapsedTime: 93.0 seconds RetCode: 0 Status: OK PackageFile: LOBSTAHS_1.33.0.tar.gz PackageFileSize: 2.902 MiB