Package: LOBSTAHS Version: 1.33.0 Command: E:\biocbuild\bbs-3.21-bioc\R\bin\R.exe CMD check --no-multiarch --install=check:LOBSTAHS.install-out.txt --library=E:\biocbuild\bbs-3.21-bioc\R\library --no-vignettes --timings LOBSTAHS_1.33.0.tar.gz StartedAt: 2025-02-05 02:52:12 -0500 (Wed, 05 Feb 2025) EndedAt: 2025-02-05 02:58:49 -0500 (Wed, 05 Feb 2025) EllapsedTime: 397.2 seconds RetCode: 0 Status: WARNINGS CheckDir: LOBSTAHS.Rcheck Warnings: 1