Package: LOBSTAHS Version: 1.33.0 Command: E:\biocbuild\bbs-3.21-bioc\R\bin\R.exe CMD INSTALL LOBSTAHS StartedAt: 2025-02-04 16:32:55 -0500 (Tue, 04 Feb 2025) EndedAt: 2025-02-04 16:34:13 -0500 (Tue, 04 Feb 2025) EllapsedTime: 78.2 seconds RetCode: 0 Status: OK