Package: LPE Version: 1.81.0 Command: rm -rf LPE.buildbin-libdir && mkdir LPE.buildbin-libdir && /Users/biocbuild/BBS/utils/build-universal.sh LPE_1.81.0.tar.gz /Library/Frameworks/R.framework/Resources/bin/R LPE.buildbin-libdir StartedAt: 2025-02-09 22:19:21 -0500 (Sun, 09 Feb 2025) EndedAt: 2025-02-09 22:19:23 -0500 (Sun, 09 Feb 2025) EllapsedTime: 2.0 seconds RetCode: 0 Status: OK PackageFile: LPE_1.81.0.tgz PackageFileSize: 512.4 KiB