Package: LPE Version: 1.81.0 Command: /Library/Frameworks/R.framework/Resources/bin/R CMD build --keep-empty-dirs --no-resave-data LPE StartedAt: 2025-02-09 16:46:45 -0500 (Sun, 09 Feb 2025) EndedAt: 2025-02-09 16:46:50 -0500 (Sun, 09 Feb 2025) EllapsedTime: 5.1 seconds RetCode: 0 Status: OK PackageFile: LPE_1.81.0.tar.gz PackageFileSize: 437 KiB