Package: LPE Version: 1.81.0 Command: /Library/Frameworks/R.framework/Resources/bin/R CMD INSTALL LPE StartedAt: 2025-02-12 15:01:14 -0500 (Wed, 12 Feb 2025) EndedAt: 2025-02-12 15:01:18 -0500 (Wed, 12 Feb 2025) EllapsedTime: 4.3 seconds RetCode: 0 Status: OK