Package: LPE Version: 1.81.0 Command: rm -rf LPE.buildbin-libdir && mkdir LPE.buildbin-libdir && /Users/biocbuild/BBS/utils/build-universal.sh LPE_1.81.0.tar.gz /Library/Frameworks/R.framework/Resources/bin/R LPE.buildbin-libdir StartedAt: 2025-02-10 01:00:24 -0500 (Mon, 10 Feb 2025) EndedAt: 2025-02-10 01:00:30 -0500 (Mon, 10 Feb 2025) EllapsedTime: 5.8 seconds RetCode: 0 Status: OK PackageFile: LPE_1.81.0.tgz PackageFileSize: 510.4 KiB