Package: LPE Version: 1.81.0 Command: /Library/Frameworks/R.framework/Resources/bin/R CMD build --keep-empty-dirs --no-resave-data LPE StartedAt: 2025-02-09 17:16:22 -0500 (Sun, 09 Feb 2025) EndedAt: 2025-02-09 17:16:34 -0500 (Sun, 09 Feb 2025) EllapsedTime: 12.6 seconds RetCode: 0 Status: OK PackageFile: LPE_1.81.0.tar.gz PackageFileSize: 436.4 KiB