Package: LPE Version: 1.81.0 Command: /Library/Frameworks/R.framework/Resources/bin/R CMD check --install=check:LPE.install-out.txt --library=/Library/Frameworks/R.framework/Resources/library --no-vignettes --timings LPE_1.81.0.tar.gz StartedAt: 2025-02-09 21:36:16 -0500 (Sun, 09 Feb 2025) EndedAt: 2025-02-09 21:36:51 -0500 (Sun, 09 Feb 2025) EllapsedTime: 34.4 seconds RetCode: 0 Status: OK CheckDir: LPE.Rcheck Warnings: 0