Package: LPE Version: 1.81.0 Command: /home/biocbuild/bbs-3.21-bioc/R/bin/R CMD build --keep-empty-dirs --no-resave-data LPE StartedAt: 2025-02-12 17:50:01 -0500 (Wed, 12 Feb 2025) EndedAt: 2025-02-12 17:50:08 -0500 (Wed, 12 Feb 2025) EllapsedTime: 7.0 seconds RetCode: 0 Status: OK PackageFile: LPE_1.81.0.tar.gz PackageFileSize: 436.9 KiB