Package: LPE Version: 1.81.0 Command: E:\biocbuild\bbs-3.21-bioc\R\bin\R.exe CMD INSTALL LPE StartedAt: 2025-02-12 15:21:06 -0500 (Wed, 12 Feb 2025) EndedAt: 2025-02-12 15:21:17 -0500 (Wed, 12 Feb 2025) EllapsedTime: 10.3 seconds RetCode: 0 Status: OK