Package: LedPred Version: 1.41.0 Command: /Library/Frameworks/R.framework/Resources/bin/R CMD INSTALL LedPred StartedAt: 2025-02-09 15:18:37 -0500 (Sun, 09 Feb 2025) EndedAt: 2025-02-09 15:18:42 -0500 (Sun, 09 Feb 2025) EllapsedTime: 5.3 seconds RetCode: 0 Status: OK