Package: LedPred Version: 1.41.0 Command: /home/biocbuild/R/R/bin/R CMD build --keep-empty-dirs --no-resave-data LedPred StartedAt: 2025-01-28 23:54:00 -0000 (Tue, 28 Jan 2025) EndedAt: 2025-01-28 23:54:21 -0000 (Tue, 28 Jan 2025) EllapsedTime: 21.0 seconds RetCode: 0 Status: OK PackageFile: LedPred_1.41.0.tar.gz PackageFileSize: 1.457 MiB