Package: LedPred Version: 1.41.0 Command: /Library/Frameworks/R.framework/Resources/bin/R CMD build --keep-empty-dirs --no-resave-data LedPred StartedAt: 2025-02-09 17:14:56 -0500 (Sun, 09 Feb 2025) EndedAt: 2025-02-09 17:15:24 -0500 (Sun, 09 Feb 2025) EllapsedTime: 27.4 seconds RetCode: 0 Status: OK PackageFile: LedPred_1.41.0.tar.gz PackageFileSize: 1.462 MiB