Package: LedPred Version: 1.41.0 Command: rm -rf LedPred.buildbin-libdir && mkdir LedPred.buildbin-libdir && E:\biocbuild\bbs-3.21-bioc\R\bin\R.exe CMD INSTALL --build --library=LedPred.buildbin-libdir LedPred_1.41.0.tar.gz StartedAt: 2025-02-10 08:01:46 -0500 (Mon, 10 Feb 2025) EndedAt: 2025-02-10 08:02:18 -0500 (Mon, 10 Feb 2025) EllapsedTime: 32.4 seconds RetCode: 0 Status: OK PackageFile: LedPred_1.41.0.zip PackageFileSize: 1.554 MiB