Package: LedPred Version: 1.41.0 Command: E:\biocbuild\bbs-3.21-bioc\R\bin\R.exe CMD INSTALL LedPred StartedAt: 2025-02-09 15:53:18 -0500 (Sun, 09 Feb 2025) EndedAt: 2025-02-09 15:53:39 -0500 (Sun, 09 Feb 2025) EllapsedTime: 21.4 seconds RetCode: 0 Status: OK