Package: LimROTS Version: 0.99.12 Command: /home/biocbuild/R/R/bin/R CMD build --keep-empty-dirs --no-resave-data LimROTS StartedAt: 2025-01-28 23:55:10 -0000 (Tue, 28 Jan 2025) EndedAt: 2025-01-28 23:56:59 -0000 (Tue, 28 Jan 2025) EllapsedTime: 109.0 seconds RetCode: 0 Status: OK PackageFile: LimROTS_0.99.12.tar.gz PackageFileSize: 648.1 KiB