Package: LimROTS Version: 0.99.12 Command: rm -rf LimROTS.buildbin-libdir && mkdir LimROTS.buildbin-libdir && /Users/biocbuild/BBS/utils/build-universal.sh LimROTS_0.99.12.tar.gz /Library/Frameworks/R.framework/Resources/bin/R LimROTS.buildbin-libdir StartedAt: 2025-02-05 00:46:23 -0500 (Wed, 05 Feb 2025) EndedAt: 2025-02-05 00:46:59 -0500 (Wed, 05 Feb 2025) EllapsedTime: 36.2 seconds RetCode: 0 Status: OK PackageFile: LimROTS_0.99.12.tgz PackageFileSize: 832.4 KiB