Package: LimROTS Version: 0.99.12 Command: /Library/Frameworks/R.framework/Resources/bin/R CMD build --keep-empty-dirs --no-resave-data LimROTS StartedAt: 2025-02-09 17:15:22 -0500 (Sun, 09 Feb 2025) EndedAt: 2025-02-09 17:16:44 -0500 (Sun, 09 Feb 2025) EllapsedTime: 81.2 seconds RetCode: 0 Status: OK PackageFile: LimROTS_0.99.12.tar.gz PackageFileSize: 772.6 KiB